BEGIN:VCALENDAR
VERSION:2.0
PRODID:-//Tukios.com/
BEGIN:VEVENT
UID:531cc16a-5138-4edf-b8e9-54e2e75b0559@www.hoskinsonfuneral.com
DTSTAMP:20260420T230112Z
DTSTART:20260504T170000Z
DTEND:20260504T180000Z
SUMMARY:Graveside Service
DESCRIPTION:
URL:https://www.hoskinsonfuneral.com/obituaries/steven-moore
LOCATION:Cedar Hill Cemetery 275 North Cedar Street  Newark OH 43055
GEO:40.069718;-82.389415
END:VEVENT
END:VCALENDAR