BEGIN:VCALENDAR
VERSION:2.0
PRODID:-//Tukios.com/
BEGIN:VEVENT
UID:84e653d6-18bb-4dca-bc5d-81c442de9b58@www.hoskinsonfuneral.com
DTSTAMP:20260421T004016Z
DTSTART:20260423T210000Z
DTEND:20260423T230000Z
SUMMARY:Visitation
DESCRIPTION:
URL:https://www.hoskinsonfuneral.com/obituaries/robert-bob-guy
LOCATION:Criss Wagner Hoskinson Funeral and Cremation Service 179 
	Granville Street  Newark OH 43055
GEO:40.061062;-82.4139448
END:VEVENT
END:VCALENDAR