BEGIN:VCALENDAR
VERSION:2.0
PRODID:-//Tukios.com/
BEGIN:VEVENT
UID:401c38c7-22c7-4173-b508-73a0c9f32db2@www.hoskinsonfuneral.com
DTSTAMP:20260421T010006Z
DTSTART:20260423T190000Z
DTEND:20260423T200000Z
SUMMARY:Funeral Service
DESCRIPTION:
URL:https://www.hoskinsonfuneral.com/obituaries/landen-fulton
LOCATION:Thornville Chapel of Hoskinson Funeral & Cremation Service 56 
	South Main Street  Thornville OH 43076
GEO:39.8946999;-82.4208461
END:VEVENT
END:VCALENDAR