BEGIN:VCALENDAR
VERSION:2.0
PRODID:-//Tukios.com/
BEGIN:VEVENT
UID:a34d55a1-d5a7-4f31-95b9-4e4567c90160@www.hoskinsonfuneral.com
DTSTAMP:20260421T010736Z
DTSTART:20260423T150000Z
DTEND:20260423T190000Z
SUMMARY:Visitation
DESCRIPTION:
URL:https://www.hoskinsonfuneral.com/obituaries/landen-fulton
LOCATION:Thornville Chapel of Hoskinson Funeral & Cremation Service 56 
	South Main Street  Thornville OH 43076
GEO:39.8946999;-82.4208461
END:VEVENT
END:VCALENDAR