BEGIN:VCALENDAR
VERSION:2.0
PRODID:-//Tukios.com/
BEGIN:VEVENT
UID:4c44282e-8bd1-4011-9bdc-4d3d64f44d1d@www.hoskinsonfuneral.com
DTSTAMP:20260424T044158Z
DTSTART:20260506T170000Z
DTEND:20260506T180000Z
SUMMARY:Graveside Service
DESCRIPTION:Military honors will be observed by the Licking County 
	veterans Alliance.
URL:https://www.hoskinsonfuneral.com/obituaries/kenneth-miller
LOCATION: 275 North Cedar Street  Newark OH 43055
GEO:40.069718;-82.389415
END:VEVENT
END:VCALENDAR