BEGIN:VCALENDAR
VERSION:2.0
PRODID:-//Tukios.com/
BEGIN:VEVENT
UID:8d52b677-a434-4a3d-8d9b-a2075ae4e7f7@www.hoskinsonfuneral.com
DTSTAMP:20260423T191619Z
DTSTART:20260428T170000Z
DTEND:20260428T180000Z
SUMMARY:Funeral Service
DESCRIPTION:
URL:https://www.hoskinsonfuneral.com/obituaries/herbert-wyeth
LOCATION:Thornville Chapel of Hoskinson Funeral & Cremation Service 56 
	South Main Street  Thornville OH 43076
GEO:39.8946999;-82.4208461
END:VEVENT
END:VCALENDAR