BEGIN:VCALENDAR
VERSION:2.0
PRODID:-//Tukios.com/
BEGIN:VEVENT
UID:9e9e02de-121c-4185-aa1e-7151dfde17b4@www.hoskinsonfuneral.com
DTSTAMP:20260423T192253Z
DTSTART:20260427T200000Z
DTEND:20260427T230000Z
SUMMARY:Visitation
DESCRIPTION:
URL:https://www.hoskinsonfuneral.com/obituaries/herbert-wyeth
LOCATION:Thornville Chapel of Hoskinson Funeral & Cremation Service 56 
	South Main Street  Thornville OH 43076
GEO:39.8946999;-82.4208461
END:VEVENT
END:VCALENDAR